BEGIN:VCALENDAR
VERSION:2.0
PRODID:jazz-concerts.com
METHOD:PUBLISH
SEQUENCE:1776603415
BEGIN:VEVENT
UID:jazz-concerts.com-1-42622
DTSTAMP:20260419T145655
DTSTART:20260722T230000
DTEND:20260723T010000
SUMMARY:Cecile McLorin Salvant
LOCATION:Jazz in Marciac Place du Chevalier d'Antras 8\, 32230 Marciac\, Frankreich
DESCRIPTION:Tickets / Eintrittskarten: https://jazz-concerts.com/de/event/42622\n\nCecile McLorin Salvant\n\n
END:VEVENT
END:VCALENDAR
