BEGIN:VCALENDAR
VERSION:2.0
PRODID:jazz-concerts.com
METHOD:PUBLISH
SEQUENCE:1776776441
BEGIN:VEVENT
UID:jazz-concerts.com-1-42605
DTSTAMP:20260421T150041
DTSTART:20260627T000000
DTEND:20260627T020000
SUMMARY:Cory Wong
LOCATION:Schloss Fontainebleau 77300 Fontainebleau\, Frankreich
DESCRIPTION:Tickets / Eintrittskarten: https://jazz-concerts.com/de/event/42605\n\nCory Wong\n\n
END:VEVENT
END:VCALENDAR
