BEGIN:VCALENDAR
VERSION:2.0
PRODID:jazz-concerts.com
METHOD:PUBLISH
SEQUENCE:1776776442
BEGIN:VEVENT
UID:jazz-concerts.com-1-42604
DTSTAMP:20260421T150042
DTSTART:20260626T000000
DTEND:20260626T020000
SUMMARY:Asaf Avidan
LOCATION:Schloss Fontainebleau 77300 Fontainebleau\, Frankreich
DESCRIPTION:Tickets / Eintrittskarten: https://jazz-concerts.com/de/event/42604\n\nAsaf Avidan\n\n
END:VEVENT
END:VCALENDAR
