BEGIN:VCALENDAR
VERSION:2.0
PRODID:jazz-concerts.com
METHOD:PUBLISH
SEQUENCE:1776776442
BEGIN:VEVENT
UID:jazz-concerts.com-1-42603
DTSTAMP:20260421T150042
DTSTART:20260625T000000
DTEND:20260625T020000
SUMMARY:Thee Sacred Souls
LOCATION:Schloss Fontainebleau 77300 Fontainebleau\, Frankreich
DESCRIPTION:Tickets / Eintrittskarten: https://jazz-concerts.com/de/event/42603\n\nThee Sacred Souls\n\n
END:VEVENT
END:VCALENDAR
