BEGIN:VCALENDAR
VERSION:2.0
PRODID:jazz-concerts.com
METHOD:PUBLISH
SEQUENCE:1776844313
BEGIN:VEVENT
UID:jazz-concerts.com-1-42598
DTSTAMP:20260422T095153
DTSTART:20261005T190000
DTEND:20261005T210000
SUMMARY:Max Raabe & Palast Orchester
LOCATION:Cirkus Djurgårdsslätten 43-45\, 115 21 Stockholm\, Schweden
DESCRIPTION:Tickets / Eintrittskarten: https://jazz-concerts.com/de/event/42598\n\nMax Raabe & Palast Orchester\n\n
END:VEVENT
END:VCALENDAR
