BEGIN:VCALENDAR
VERSION:2.0
PRODID:jazz-concerts.com
METHOD:PUBLISH
SEQUENCE:1776669190
BEGIN:VEVENT
UID:jazz-concerts.com-1-42564
DTSTAMP:20260420T091310
DTSTART:20270116T200000
DTEND:20270116T220000
SUMMARY:Max Raabe & Palast Orchester
LOCATION:Harzlandhalle Harzburger Straße 24A\, 38871 Ilsenburg (Harz)\, Deutschland
DESCRIPTION:Tickets / Eintrittskarten: https://jazz-concerts.com/de/event/42564\n\nMax Raabe & Palast Orchester\n\n
END:VEVENT
END:VCALENDAR
