BEGIN:VCALENDAR
VERSION:2.0
PRODID:jazz-concerts.com
METHOD:PUBLISH
SEQUENCE:1776634724
BEGIN:VEVENT
UID:jazz-concerts.com-1-42545
DTSTAMP:20260419T233844
DTSTART:20261106T200000
DTEND:20261106T220000
SUMMARY:Max Raabe & Palast Orchester
LOCATION:Heinrich-Lades-Halle Rathausplatz 2\, 91052 Erlangen\, Deutschland
DESCRIPTION:Tickets / Eintrittskarten: https://jazz-concerts.com/de/event/42545\n\nMax Raabe & Palast Orchester\n\n
END:VEVENT
END:VCALENDAR
