BEGIN:VCALENDAR
VERSION:2.0
PRODID:jazz-concerts.com
METHOD:PUBLISH
SEQUENCE:1776650439
BEGIN:VEVENT
UID:jazz-concerts.com-1-42499
DTSTAMP:20260420T040039
DTSTART:20260621T103000
DTEND:20260621T123000
SUMMARY:Frühschoppen in der Hafenhalle
LOCATION:Hafenhalle Hafenstraße 10\, 78462 Konstanz\, Deutschland
DESCRIPTION:Tickets / Eintrittskarten: https://jazz-concerts.com/de/event/42499\n\nFrühschoppen in der Hafenhalle\n\n
END:VEVENT
END:VCALENDAR
