BEGIN:VCALENDAR
VERSION:2.0
PRODID:jazz-concerts.com
METHOD:PUBLISH
SEQUENCE:1776654307
BEGIN:VEVENT
UID:jazz-concerts.com-1-42494
DTSTAMP:20260420T050507
DTSTART:20260607T183000
DTEND:20260607T203000
SUMMARY:Pepe Lienhard Big Band
LOCATION:Kultur- und Kongresszentrum Luzern Europaplatz 1\, 6005 Luzern\, Schweiz
DESCRIPTION:Tickets / Eintrittskarten: https://jazz-concerts.com/de/event/42494\n\nPepe Lienhard Big Band\n\n
END:VEVENT
END:VCALENDAR
