BEGIN:VCALENDAR
VERSION:2.0
PRODID:jazz-concerts.com
METHOD:PUBLISH
SEQUENCE:1776614054
BEGIN:VEVENT
UID:jazz-concerts.com-1-42449
DTSTAMP:20260419T175414
DTSTART:20260420T210000
DTEND:20260420T230000
SUMMARY:Tinariwen
LOCATION:Alcatraz Via Valtellina 25\, 20159 Milano\, Italien
DESCRIPTION:Tickets / Eintrittskarten: https://jazz-concerts.com/de/event/42449\n\nTinariwen\n\n
END:VEVENT
END:VCALENDAR
