BEGIN:VCALENDAR
VERSION:2.0
PRODID:jazz-concerts.com
METHOD:PUBLISH
SEQUENCE:1776612707
BEGIN:VEVENT
UID:jazz-concerts.com-1-42410
DTSTAMP:20260419T173147
DTSTART:20260523T213000
DTEND:20260523T233000
SUMMARY:Martin Sasse Solo
LOCATION:Schloss Elmau In Elmau 2\, 82493 Krün\, Deutschland
DESCRIPTION:Tickets / Eintrittskarten: https://jazz-concerts.com/de/event/42410\n\nMartin Sasse Solo\n\n
END:VEVENT
END:VCALENDAR
