BEGIN:VCALENDAR
VERSION:2.0
PRODID:jazz-concerts.com
METHOD:PUBLISH
SEQUENCE:1776782091
BEGIN:VEVENT
UID:jazz-concerts.com-1-42380
DTSTAMP:20260421T163451
DTSTART:20260501T190000
DTEND:20260501T210000
SUMMARY:Judy Wexler
LOCATION:Scullers Jazz Club Soldiers Field Road 400\, 02134 Boston\, USA
DESCRIPTION:Tickets / Eintrittskarten: https://jazz-concerts.com/de/event/42380\n\nJudy Wexler\n\n
END:VEVENT
END:VCALENDAR
