BEGIN:VCALENDAR
VERSION:2.0
PRODID:jazz-concerts.com
METHOD:PUBLISH
SEQUENCE:1776781507
BEGIN:VEVENT
UID:jazz-concerts.com-1-42379
DTSTAMP:20260421T162507
DTSTART:20260425T190000
DTEND:20260425T210000
SUMMARY:SUEDE
LOCATION:Scullers Jazz Club Soldiers Field Road 400\, 02134 Boston\, USA
DESCRIPTION:Tickets / Eintrittskarten: https://jazz-concerts.com/de/event/42379\n\nSUEDE\n\n
END:VEVENT
END:VCALENDAR
