BEGIN:VCALENDAR
VERSION:2.0
PRODID:jazz-concerts.com
METHOD:PUBLISH
SEQUENCE:1776645726
BEGIN:VEVENT
UID:jazz-concerts.com-1-42339
DTSTAMP:20260420T024206
DTSTART:20261024T200000
DTEND:20261024T220000
SUMMARY:Götz Alsmann
LOCATION:Schützenhaus Straße des Friedens 20\, 07381 Pößneck\, Deutschland
DESCRIPTION:Tickets / Eintrittskarten: https://jazz-concerts.com/de/event/42339\n\nGötz Alsmann\n\n
END:VEVENT
END:VCALENDAR
