BEGIN:VCALENDAR
VERSION:2.0
PRODID:jazz-concerts.com
METHOD:PUBLISH
SEQUENCE:1776778253
BEGIN:VEVENT
UID:jazz-concerts.com-1-42334
DTSTAMP:20260421T153053
DTSTART:20260722T193000
DTEND:20260722T213000
SUMMARY:Götz Alsmann
LOCATION:Odertalbühne Berliner Straße 46/48\, 16303 Schwedt/Oder\, Deutschland
DESCRIPTION:Tickets / Eintrittskarten: https://jazz-concerts.com/de/event/42334\n\nGötz Alsmann\n\n
END:VEVENT
END:VCALENDAR
