BEGIN:VCALENDAR
VERSION:2.0
PRODID:jazz-concerts.com
METHOD:PUBLISH
SEQUENCE:1776612747
BEGIN:VEVENT
UID:jazz-concerts.com-1-42327
DTSTAMP:20260419T173227
DTSTART:20260515T193000
DTEND:20260515T213000
SUMMARY:Götz Alsmann
LOCATION:Stadttheater Fürth Königstraße 116\, 90762 Fürth\, Deutschland
DESCRIPTION:Tickets / Eintrittskarten: https://jazz-concerts.com/de/event/42327\n\nGötz Alsmann\n\n
END:VEVENT
END:VCALENDAR
