BEGIN:VCALENDAR
VERSION:2.0
PRODID:jazz-concerts.com
METHOD:PUBLISH
SEQUENCE:1776643318
BEGIN:VEVENT
UID:jazz-concerts.com-1-42301
DTSTAMP:20260420T020158
DTSTART:20260619T200000
DTEND:20260619T220000
SUMMARY:Chettin'5
LOCATION:Roter Saal Schloßplatz 1\, 38100 Braunschweig\, Deutschland
DESCRIPTION:Tickets / Eintrittskarten: https://jazz-concerts.com/de/event/42301\n\nChettin'5\nMore from Chet and Stan\nDie Musik der Jazzgiganten Chet Baker und Stan Getz ist zeitlos und unvergessen. Jeder für sich \nhinterließ ein beeindruckendes musikalisches Vermächtnis.  \nStanden sie gemeinsam auf der Bühne bildeten sie in einem Spannungsfeld aus emotionaler \nZerbrechlichkeit auf der einen und kühler Eleganz auf der anderen Seite eine wunderbare \nmusikalische Symbiose. \nBesonders in Erinnerung geblieben sind die Stockholm-Konzerte in den 80er Jahren. \nChettin´5 folgt den Spuren dieser Ausnahmekünstler und ihrer Zusammenarbeit auf eigene \nWeise.\n
END:VEVENT
END:VCALENDAR
