BEGIN:VCALENDAR
VERSION:2.0
PRODID:jazz-concerts.com
METHOD:PUBLISH
SEQUENCE:1776637048
BEGIN:VEVENT
UID:jazz-concerts.com-1-42294
DTSTAMP:20260420T001728
DTSTART:20260521T190000
DTEND:20260521T210000
SUMMARY:Akio Le & His Trio - My Nat King Cole Story
LOCATION:Okerpirat Marktstraße 4\, 38300 Wolfenbüttel\, Deutschland
DESCRIPTION:Tickets / Eintrittskarten: https://jazz-concerts.com/de/event/42294\n\nAkio Le & His Trio - My Nat King Cole Story\nMit „My Nat King Cole Story“ präsentiert der Hannoveraner Sänger Akio Le eine feinfühlige\, musikalisch anspruchsvolle Hommage an einen der größten Crooner der Jazzgeschichte – Nat King Cole. Mit seiner außergewöhnlich warmen Stimme und einer Bühnenpräsenz\, die zwischen entspannter Lässigkeit und charismatischer Tiefe schwingt\, lässt Akio Le den samtweichen Sound vergangener Zeiten neu aufleben. Dabei gelingt ihm die perfekte Balance zwischen gefühlvollen Balladen und groovigem Swing – immer stilvoll\, immer authentisch.\n\nSein Programm ist ein abwechslungsreicher Mix aus weltbekannten Klassikern und auch weniger bekannten Schätzen Nat King Cole´s – neu arrangiert\, überraschend interpretiert.\n\n„My Nat King Cole Story“ ist mehr als ein Tribute-Konzert: Es ist eine musikalische Erzählung\, ein Abend voll Jazz\, Blues und Swing\, der sich anfühlt wie ein Glas vollmundiger Rotwein – ehrlich\, entspannt und voller Seele. Ein Konzert\, das sowohl Fans des klassischen Genres als auch Liebhaber moderner Klänge begeistert.\n
END:VEVENT
END:VCALENDAR
