BEGIN:VCALENDAR
VERSION:2.0
PRODID:jazz-concerts.com
METHOD:PUBLISH
SEQUENCE:1776643060
BEGIN:VEVENT
UID:jazz-concerts.com-1-42274
DTSTAMP:20260420T015740
DTSTART:20260514T141500
DTEND:20260514T161500
SUMMARY:DIXIE TÖRN auf der HOHENTWIEL
LOCATION: Bregenz\, Österreich
DESCRIPTION:Tickets / Eintrittskarten: https://jazz-concerts.com/de/event/42274\n\nDIXIE TÖRN auf der HOHENTWIEL\n14:14 Bregenz ... 15:30 Lindau\n\n
END:VEVENT
END:VCALENDAR
