BEGIN:VCALENDAR
VERSION:2.0
PRODID:jazz-concerts.com
METHOD:PUBLISH
SEQUENCE:1776657306
BEGIN:VEVENT
UID:jazz-concerts.com-1-42217
DTSTAMP:20260420T055506
DTSTART:20261017T200000
DTEND:20261017T220000
SUMMARY:Dr. Feelgood
LOCATION:Kulturzentrum Galvanik Zug Chamerstrasse 173\, 6300 Zug\, Schweiz
DESCRIPTION:Tickets / Eintrittskarten: https://jazz-concerts.com/de/event/42217\n\nDr. Feelgood\n\n
END:VEVENT
END:VCALENDAR
