BEGIN:VCALENDAR
VERSION:2.0
PRODID:jazz-concerts.com
METHOD:PUBLISH
SEQUENCE:1776634664
BEGIN:VEVENT
UID:jazz-concerts.com-1-42102
DTSTAMP:20260419T233744
DTSTART:20260510T120000
DTEND:20260510T140000
SUMMARY:Ladwig's DIXIELAND KAPELLE
LOCATION:Dixiefest Markdorf\, Deutschland
DESCRIPTION:Tickets / Eintrittskarten: https://jazz-concerts.com/de/event/42102\n\nLadwig's DIXIELAND KAPELLE\n\n
END:VEVENT
END:VCALENDAR
