BEGIN:VCALENDAR
VERSION:2.0
PRODID:jazz-concerts.com
METHOD:PUBLISH
SEQUENCE:1776623120
BEGIN:VEVENT
UID:jazz-concerts.com-1-42013
DTSTAMP:20260419T202520
DTSTART:20260528T200000
DTEND:20260528T220000
SUMMARY:Düsseldorf Jazz Trio & Sabine Kühlich
LOCATION:MAXHAUS - Katholisches Stadthaus Schulstraße 11\, 40213 Düsseldorf\, Deutschland
DESCRIPTION:Tickets / Eintrittskarten: https://jazz-concerts.com/de/event/42013\n\nDüsseldorf Jazz Trio & Sabine Kühlich\n\n
END:VEVENT
END:VCALENDAR
