BEGIN:VCALENDAR
VERSION:2.0
PRODID:jazz-concerts.com
METHOD:PUBLISH
SEQUENCE:1776619096
BEGIN:VEVENT
UID:jazz-concerts.com-1-42010
DTSTAMP:20260419T191816
DTSTART:20260502T210000
DTEND:20260502T230000
SUMMARY:Grant Stewart Quartet
LOCATION:Jazzkeller Frankfurt Kleine Bockenheimer Straße 18a\, 60313 Frankfurt am Main\, Deutschland
DESCRIPTION:Tickets / Eintrittskarten: https://jazz-concerts.com/de/event/42010\n\nGrant Stewart Quartet\n\n
END:VEVENT
END:VCALENDAR
