BEGIN:VCALENDAR
VERSION:2.0
PRODID:jazz-concerts.com
METHOD:PUBLISH
SEQUENCE:1776625294
BEGIN:VEVENT
UID:jazz-concerts.com-1-40969
DTSTAMP:20260419T210134
DTSTART:20260610T203000
DTEND:20260610T223000
SUMMARY:W.E.S. - das Jürgen Waidele Trio
LOCATION:Obsthof Renner Im Winkel 15\, 78333 Stockach\, Deutschland
DESCRIPTION:Tickets / Eintrittskarten: https://jazz-concerts.com/de/event/40969\n\nW.E.S. - das Jürgen Waidele Trio\nMusik kennt keine Grenzen...\n\nSo werden große\, bekannte Werke\, aber auch eigene Stücke in spannenden Arrangements präsentiert\, die in dieser kleinen Besetzung besonders klingen. Das gibt den Sängern und Instrumentalisten Jürgen Waidele und Ad Schwarz ungeahnte Freiheiten um auch bei den leisesten Tönen ihre Timbres und ihr ausdrucksstarkes Spiel zu zeigen.  Benjamin Engel\, der Dritte im Bunde\, sorgt mit seinem Saxofon für besondere Zwischentöne und Eskapaden\, die sich auf wundersame Weise immer wieder auflösen im dichten Geflecht des Trios .\n
END:VEVENT
END:VCALENDAR
