BEGIN:VCALENDAR
VERSION:2.0
PRODID:jazz-concerts.com
METHOD:PUBLISH
SEQUENCE:1776619092
BEGIN:VEVENT
UID:jazz-concerts.com-1-40968
DTSTAMP:20260419T191812
DTSTART:20260529T203000
DTEND:20260529T223000
SUMMARY:The Sound of Gerry Mulligan Quartett
LOCATION:Obsthof Renner Im Winkel 15\, 78333 Stockach\, Deutschland
DESCRIPTION:Tickets / Eintrittskarten: https://jazz-concerts.com/de/event/40968\n\nThe Sound of Gerry Mulligan Quartett\n\n
END:VEVENT
END:VCALENDAR
