BEGIN:VCALENDAR
VERSION:2.0
PRODID:jazz-concerts.com
METHOD:PUBLISH
SEQUENCE:1776725341
BEGIN:VEVENT
UID:jazz-concerts.com-1-40593
DTSTAMP:20260421T004901
DTSTART:20260502T193000
DTEND:20260502T213000
SUMMARY:100 Years of Blues with Elvin Bishop and Charlie Musselwhite
LOCATION:Lone Tree Arts Center Commons Street 10075\, 80124 Lone Tree\, USA
DESCRIPTION:Tickets / Eintrittskarten: https://jazz-concerts.com/de/event/40593\n\n100 Years of Blues with Elvin Bishop and Charlie Musselwhite\n\n
END:VEVENT
END:VCALENDAR
