BEGIN:VCALENDAR
VERSION:2.0
PRODID:jazz-concerts.com
METHOD:PUBLISH
SEQUENCE:1776643111
BEGIN:VEVENT
UID:jazz-concerts.com-1-39615
DTSTAMP:20260420T015831
DTSTART:20270117T180000
DTEND:20270117T200000
SUMMARY:The World Famous Glenn Miller Orchestra directed by Uli Plettendorff
LOCATION:Rudolf-Oetker-Halle Lampingstraße 16\, 33615 Bielefeld\, Deutschland
DESCRIPTION:Tickets / Eintrittskarten: https://jazz-concerts.com/de/event/39615\n\nThe World Famous Glenn Miller Orchestra directed by Uli Plettendorff\nSwing Forever\n\n
END:VEVENT
END:VCALENDAR
