BEGIN:VCALENDAR
VERSION:2.0
PRODID:jazz-concerts.com
METHOD:PUBLISH
SEQUENCE:1776643060
BEGIN:VEVENT
UID:jazz-concerts.com-1-39339
DTSTAMP:20260420T015740
DTSTART:20261024T200000
DTEND:20261024T220000
SUMMARY:Henrik Freischlader
LOCATION:Malzhaus Alter Teich 7-9\, 08527 Plauen\, Deutschland
DESCRIPTION:Tickets / Eintrittskarten: https://jazz-concerts.com/de/event/39339\n\nHenrik Freischlader\n\n
END:VEVENT
END:VCALENDAR
