BEGIN:VCALENDAR
VERSION:2.0
PRODID:jazz-concerts.com
METHOD:PUBLISH
SEQUENCE:1776640071
BEGIN:VEVENT
UID:jazz-concerts.com-1-39337
DTSTAMP:20260420T010751
DTSTART:20261021T190000
DTEND:20261021T210000
SUMMARY:Henrik Freischlader
LOCATION:Factory Magdeburg Sandbreite 2\, 39104 Magdeburg\, Deutschland
DESCRIPTION:Tickets / Eintrittskarten: https://jazz-concerts.com/de/event/39337\n\nHenrik Freischlader\n\n
END:VEVENT
END:VCALENDAR
