BEGIN:VCALENDAR
VERSION:2.0
PRODID:jazz-concerts.com
METHOD:PUBLISH
SEQUENCE:1776619092
BEGIN:VEVENT
UID:jazz-concerts.com-1-39128
DTSTAMP:20260419T191812
DTSTART:20260427T200000
DTEND:20260427T220000
SUMMARY:Tom Gaebel & his Orchestra
LOCATION:Savoy Theater Graf-Adolf-Straße 47\, 40215 Düsseldorf\, Deutschland
DESCRIPTION:Tickets / Eintrittskarten: https://jazz-concerts.com/de/event/39128\n\nTom Gaebel & his Orchestra\n\n
END:VEVENT
END:VCALENDAR
