BEGIN:VCALENDAR
VERSION:2.0
PRODID:jazz-concerts.com
METHOD:PUBLISH
SEQUENCE:1776625294
BEGIN:VEVENT
UID:jazz-concerts.com-1-39127
DTSTAMP:20260419T210134
DTSTART:20260426T190000
DTEND:20260426T210000
SUMMARY:Tom Gaebel & his Orchestra
LOCATION:Hugenottenhalle Frankfurter Straße 152\, 63263 Neu-Isenburg\, Deutschland
DESCRIPTION:Tickets / Eintrittskarten: https://jazz-concerts.com/de/event/39127\n\nTom Gaebel & his Orchestra\n\n
END:VEVENT
END:VCALENDAR
