BEGIN:VCALENDAR
VERSION:2.0
PRODID:jazz-concerts.com
METHOD:PUBLISH
SEQUENCE:1776643060
BEGIN:VEVENT
UID:jazz-concerts.com-1-37913
DTSTAMP:20260420T015740
DTSTART:20261107T200000
DTEND:20261107T220000
SUMMARY:Ladwigs HOT JAZZ ORCHESTRA
LOCATION:Stadtsaal Zofingen Weiherstrasse 2\, 4800 Zofingen\, Schweiz
DESCRIPTION:Tickets / Eintrittskarten: https://jazz-concerts.com/de/event/37913\n\nLadwigs HOT JAZZ ORCHESTRA\n\n
END:VEVENT
END:VCALENDAR
