BEGIN:VCALENDAR
VERSION:2.0
PRODID:jazz-concerts.com
METHOD:PUBLISH
SEQUENCE:1776643115
BEGIN:VEVENT
UID:jazz-concerts.com-1-37605
DTSTAMP:20260420T015835
DTSTART:20261105T200000
DTEND:20261105T220000
SUMMARY:Max Raabe & Palast Orchester
LOCATION:Oberfrankenhalle Am Sportpark 3\, 95448 Bayreuth\, Deutschland
DESCRIPTION:Tickets / Eintrittskarten: https://jazz-concerts.com/de/event/37605\n\nMax Raabe & Palast Orchester\n\n
END:VEVENT
END:VCALENDAR
