BEGIN:VCALENDAR
VERSION:2.0
PRODID:jazz-concerts.com
METHOD:PUBLISH
SEQUENCE:1776619088
BEGIN:VEVENT
UID:jazz-concerts.com-1-37511
DTSTAMP:20260419T191808
DTSTART:20260426T200000
DTEND:20260426T220000
SUMMARY:Götz Alsmann
LOCATION:Stadthalle Stadtallendorf Bahnhofstraße 2\, 35260 Stadtallendorf\, Deutschland
DESCRIPTION:Tickets / Eintrittskarten: https://jazz-concerts.com/de/event/37511\n\nGötz Alsmann\n\n
END:VEVENT
END:VCALENDAR
