BEGIN:VCALENDAR
VERSION:2.0
PRODID:jazz-concerts.com
METHOD:PUBLISH
SEQUENCE:1776643116
BEGIN:VEVENT
UID:jazz-concerts.com-1-33831
DTSTAMP:20260420T015836
DTSTART:20261206T170000
DTEND:20261206T190000
SUMMARY:The World Famous Glenn Miller Orchestra directed by Uli Plettendorff
LOCATION:Kultur- und Kongresszentrum Luzern Europaplatz 1\, 6005 Luzern\, Schweiz
DESCRIPTION:Tickets / Eintrittskarten: https://jazz-concerts.com/de/event/33831\n\nThe World Famous Glenn Miller Orchestra directed by Uli Plettendorff\nSwing Forever\n\n
END:VEVENT
END:VCALENDAR
